BEGIN:VCALENDAR
VERSION:2.0
PRODID:SchoolNow
CALSCALE:GREGORIAN
BEGIN:VEVENT
UID:a3adf816-8fff-11f0-9232-0affd39e389b
DTSTAMP:20260423T215114Z
SUMMARY:3rd and 4th  Grade Valentines Party
LOCATION:Classrooms
URL;VALUE=URI:https://www.rak12.org/calendar/8614845/3rd-and-4th-grade-vale
 ntines-party
DTSTART:20260213T181000Z
DTEND:20260213T191000Z
END:VEVENT
END:VCALENDAR
