BEGIN:VCALENDAR
VERSION:2.0
PRODID:SchoolNow
CALSCALE:GREGORIAN
BEGIN:VEVENT
UID:987bd53e-9032-11f0-ac7f-0a58a9feac02
DTSTAMP:20260423T215114Z
SUMMARY:RA Knights 4th-12th Grade Spring Band Concert
LOCATION:US Gym
URL;VALUE=URI:https://www.rak12.org/calendar/8616903/ra-knights-4th-12th-gr
 ade-spring-band-concert
DTSTART:20260331T230000Z
DTEND:20260401T000000Z
END:VEVENT
END:VCALENDAR
