BEGIN:VCALENDAR
VERSION:2.0
PRODID:SchoolNow
CALSCALE:GREGORIAN
BEGIN:VEVENT
UID:987bd7f0-9032-11f0-bb58-0a58a9feac02
DTSTAMP:20260423T215115Z
SUMMARY:Physicals
LOCATION:HS Flex
URL;VALUE=URI:https://www.rak12.org/calendar/8616906/physicals
DTSTART:20260304T131500Z
DTEND:20260304T151500Z
END:VEVENT
END:VCALENDAR
