BEGIN:VCALENDAR
VERSION:2.0
PRODID:SchoolNow
CALSCALE:GREGORIAN
BEGIN:VEVENT
UID:987be6fa-9032-11f0-99c5-0a58a9feac02
DTSTAMP:20260423T215114Z
SUMMARY:Young Rembrandts
LOCATION:Room 126
URL;VALUE=URI:https://www.rak12.org/calendar/8616922/young-rembrandts
DTSTART:20260114T183000Z
DTEND:20260114T203000Z
END:VEVENT
END:VCALENDAR
