BEGIN:VCALENDAR
VERSION:2.0
PRODID:SchoolNow
CALSCALE:GREGORIAN
BEGIN:VEVENT
UID:987be98e-9032-11f0-9058-0a58a9feac02
DTSTAMP:20260423T215115Z
SUMMARY:Young Rembrandts
LOCATION:Room 126
URL;VALUE=URI:https://www.rak12.org/calendar/8616925/young-rembrandts
DTSTART:20260204T183000Z
DTEND:20260204T203000Z
END:VEVENT
END:VCALENDAR
