BEGIN:VCALENDAR
VERSION:2.0
PRODID:SchoolNow
CALSCALE:GREGORIAN
BEGIN:VEVENT
UID:987bea60-9032-11f0-83d3-0a58a9feac02
DTSTAMP:20260423T215114Z
SUMMARY:Young Rembrandts
LOCATION:Room 126
URL;VALUE=URI:https://www.rak12.org/calendar/8616926/young-rembrandts
DTSTART:20260211T183000Z
DTEND:20260211T203000Z
END:VEVENT
END:VCALENDAR
