BEGIN:VCALENDAR
VERSION:2.0
PRODID:SchoolNow
CALSCALE:GREGORIAN
BEGIN:VEVENT
UID:987bf208-9032-11f0-af80-0a58a9feac02
DTSTAMP:20260423T215114Z
SUMMARY:Young Rembrandts
LOCATION:Room 126
URL;VALUE=URI:https://www.rak12.org/calendar/8616935/young-rembrandts
DTSTART:20260422T173000Z
DTEND:20260422T193000Z
END:VEVENT
END:VCALENDAR
