BEGIN:VCALENDAR
VERSION:2.0
PRODID:SchoolNow
CALSCALE:GREGORIAN
BEGIN:VEVENT
UID:987bff6e-9032-11f0-b11c-0a58a9feac02
DTSTAMP:20260423T215115Z
SUMMARY:Soccer Shots
LOCATION:US Gym
URL;VALUE=URI:https://www.rak12.org/calendar/8616951/soccer-shots
DTSTART:20260117T140000Z
DTEND:20260117T163000Z
END:VEVENT
END:VCALENDAR
