BEGIN:VCALENDAR
VERSION:2.0
PRODID:SchoolNow
CALSCALE:GREGORIAN
BEGIN:VEVENT
UID:987c03b0-9032-11f0-910b-0a58a9feac02
DTSTAMP:20260423T215114Z
SUMMARY:Flag Football Academy
LOCATION:US Gym
URL;VALUE=URI:https://www.rak12.org/calendar/8616956/flag-football-academy
DTSTART:20260221T130000Z
DTEND:20260221T170000Z
END:VEVENT
END:VCALENDAR
