BEGIN:VCALENDAR
VERSION:2.0
PRODID:SchoolNow
CALSCALE:GREGORIAN
BEGIN:VEVENT
UID:987c048c-9032-11f0-994a-0a58a9feac02
DTSTAMP:20260423T215114Z
SUMMARY:Soccer Shots
LOCATION:US Gym
URL;VALUE=URI:https://www.rak12.org/calendar/8616957/soccer-shots
DTSTART:20260228T140000Z
DTEND:20260228T163000Z
END:VEVENT
END:VCALENDAR
