BEGIN:VCALENDAR
VERSION:2.0
PRODID:SchoolNow
CALSCALE:GREGORIAN
BEGIN:VEVENT
UID:987c055e-9032-11f0-811d-0a58a9feac02
DTSTAMP:20260423T215114Z
SUMMARY:Soccer Shots
LOCATION:US Gym
URL;VALUE=URI:https://www.rak12.org/calendar/8616958/soccer-shots
DTSTART:20260307T140000Z
DTEND:20260307T163000Z
END:VEVENT
END:VCALENDAR
