BEGIN:VCALENDAR
VERSION:2.0
PRODID:SchoolNow
CALSCALE:GREGORIAN
BEGIN:VEVENT
UID:85f68e68-932f-11f0-9ba6-0e6874805899
DTSTAMP:20260423T215114Z
SUMMARY:4th Grade Field Trip
LOCATION:Perkiomen Watershed Conservancy\, 1 Skippack Pike\, Schwenksville\
 , PA 19473\, USA
URL;VALUE=URI:https://www.rak12.org/calendar/8630028/4th-grade-field-trip
DTSTART:20260515T123000Z
DTEND:20260515T183000Z
END:VEVENT
END:VCALENDAR
