BEGIN:VCALENDAR
VERSION:2.0
PRODID:SchoolNow
CALSCALE:GREGORIAN
BEGIN:VEVENT
UID:85f69408-932f-11f0-a293-0e6874805899
DTSTAMP:20260423T215114Z
SUMMARY:6th grade Field Trip
LOCATION:Philadelphia Museum of Art\, 2600 Benjamin Franklin Pkwy\, Philade
 lphia\, PA 19130\, USA
URL;VALUE=URI:https://www.rak12.org/calendar/8630031/6th-grade-field-trip
DTSTART:20260320T123000Z
DTEND:20260320T190000Z
END:VEVENT
END:VCALENDAR
