BEGIN:VCALENDAR
VERSION:2.0
PRODID:SchoolNow
CALSCALE:GREGORIAN
BEGIN:VEVENT
UID:2c5b863a-98c3-11f0-81df-0a58a9feac02
DTSTAMP:20260423T215114Z
SUMMARY:Youth NFL Flag Football
LOCATION:US Gym
URL;VALUE=URI:https://www.rak12.org/calendar/8657736/youth-nfl-flag-footbal
 l
DTSTART:20260321T130000Z
DTEND:20260321T153000Z
END:VEVENT
END:VCALENDAR
