BEGIN:VCALENDAR
VERSION:2.0
PRODID:SchoolNow
CALSCALE:GREGORIAN
BEGIN:VEVENT
UID:2c5b8996-98c3-11f0-8d96-0a58a9feac02
DTSTAMP:20260423T215114Z
SUMMARY:Youth NFL Flag Football
LOCATION:US Gym
URL;VALUE=URI:https://www.rak12.org/calendar/8657737/youth-nfl-flag-footbal
 l
DTSTART:20260328T130000Z
DTEND:20260328T153000Z
END:VEVENT
END:VCALENDAR
