BEGIN:VCALENDAR
VERSION:2.0
PRODID:SchoolNow
CALSCALE:GREGORIAN
BEGIN:VEVENT
UID:2925e0de-995c-11f0-b6bd-0a58a9feac02
DTSTAMP:20260423T215114Z
SUMMARY:Chester County Student Forum Trip
LOCATION:Chester County Intermediate Unit\, 455 Boot Rd\, Downingtown\, PA 
 19335\, USA
URL;VALUE=URI:https://www.rak12.org/calendar/8660206/chester-county-student
 -forum-trip
DTSTART:20260319T120000Z
DTEND:20260319T153000Z
END:VEVENT
END:VCALENDAR
