BEGIN:VCALENDAR
VERSION:2.0
PRODID:SchoolNow
CALSCALE:GREGORIAN
BEGIN:VEVENT
UID:2925e1d8-995c-11f0-9dcf-0a58a9feac02
DTSTAMP:20260423T215114Z
SUMMARY:Chester County Student Forum Trip
LOCATION:Chester County Intermediate Unit\, 455 Boot Rd\, Downingtown\, PA 
 19335\, USA
URL;VALUE=URI:https://www.rak12.org/calendar/8660207/chester-county-student
 -forum-trip
DTSTART:20260416T120000Z
DTEND:20260416T153000Z
END:VEVENT
END:VCALENDAR
