BEGIN:VCALENDAR
VERSION:2.0
PRODID:SchoolNow
CALSCALE:GREGORIAN
BEGIN:VEVENT
UID:2925e2be-995c-11f0-b514-0a58a9feac02
DTSTAMP:20260423T215114Z
SUMMARY:Annual Student Forum Banquet
LOCATION:Hilton Garden Inn Exton/West Chester\, 720 Eagleview Blvd E\, Exto
 n\, PA 19341\, USA
URL;VALUE=URI:https://www.rak12.org/calendar/8660208/annual-student-forum-b
 anquet
DTSTART:20260521T143000Z
DTEND:20260521T180000Z
END:VEVENT
END:VCALENDAR
