BEGIN:VCALENDAR
VERSION:2.0
PRODID:SchoolNow
CALSCALE:GREGORIAN
BEGIN:VEVENT
UID:db99006a-9ebc-11f0-be0b-020386bb3359
DTSTAMP:20260424T035603Z
SUMMARY:PMYC Basketball
LOCATION:US Gym
URL;VALUE=URI:https://www.rak12.org/calendar/8683816/pmyc-basketball
DTSTART:20251224T230000Z
DTEND:20251225T023000Z
END:VEVENT
END:VCALENDAR
