BEGIN:VCALENDAR
VERSION:2.0
PRODID:SchoolNow
CALSCALE:GREGORIAN
BEGIN:VEVENT
UID:db99075e-9ebc-11f0-bf4f-020386bb3359
DTSTAMP:20260423T215114Z
SUMMARY:PMYC Basketball
LOCATION:US Gym
URL;VALUE=URI:https://www.rak12.org/calendar/8683822/pmyc-basketball
DTSTART:20260114T230000Z
DTEND:20260115T023000Z
END:VEVENT
END:VCALENDAR
