BEGIN:VCALENDAR
VERSION:2.0
PRODID:SchoolNow
CALSCALE:GREGORIAN
BEGIN:VEVENT
UID:db990858-9ebc-11f0-9fd5-020386bb3359
DTSTAMP:20260423T215115Z
SUMMARY:PMYC Basketball
LOCATION:US Gym
URL;VALUE=URI:https://www.rak12.org/calendar/8683823/pmyc-basketball
DTSTART:20260121T230000Z
DTEND:20260122T023000Z
END:VEVENT
END:VCALENDAR
