BEGIN:VCALENDAR
VERSION:2.0
PRODID:SchoolNow
CALSCALE:GREGORIAN
BEGIN:VEVENT
UID:db990952-9ebc-11f0-948a-020386bb3359
DTSTAMP:20260423T215115Z
SUMMARY:PMYC Basketball
LOCATION:US Gym
URL;VALUE=URI:https://www.rak12.org/calendar/8683824/pmyc-basketball
DTSTART:20260204T230000Z
DTEND:20260205T023000Z
END:VEVENT
END:VCALENDAR
