BEGIN:VCALENDAR
VERSION:2.0
PRODID:SchoolNow
CALSCALE:GREGORIAN
BEGIN:VEVENT
UID:db990d44-9ebc-11f0-a5b2-020386bb3359
DTSTAMP:20260423T215114Z
SUMMARY:PMYC Basketball
LOCATION:US Gym
URL;VALUE=URI:https://www.rak12.org/calendar/8683828/pmyc-basketball
DTSTART:20260302T230000Z
DTEND:20260303T023000Z
END:VEVENT
END:VCALENDAR
