BEGIN:VCALENDAR
VERSION:2.0
PRODID:SchoolNow
CALSCALE:GREGORIAN
BEGIN:VEVENT
UID:db990e3e-9ebc-11f0-86bd-020386bb3359
DTSTAMP:20260423T215114Z
SUMMARY:PMYC Basketball
LOCATION:US Gym
URL;VALUE=URI:https://www.rak12.org/calendar/8683829/pmyc-basketball
DTSTART:20260211T230000Z
DTEND:20260212T023000Z
END:VEVENT
END:VCALENDAR
