BEGIN:VCALENDAR
VERSION:2.0
PRODID:SchoolNow
CALSCALE:GREGORIAN
BEGIN:VEVENT
UID:db99142e-9ebc-11f0-973d-020386bb3359
DTSTAMP:20260423T215115Z
SUMMARY:PASC
LOCATION:US Gym
URL;VALUE=URI:https://www.rak12.org/calendar/8683835/pasc
DTSTART:20260118T170000Z
DTEND:20260119T000000Z
END:VEVENT
END:VCALENDAR
