BEGIN:VCALENDAR
VERSION:2.0
PRODID:SchoolNow
CALSCALE:GREGORIAN
BEGIN:VEVENT
UID:db99162c-9ebc-11f0-b6be-020386bb3359
DTSTAMP:20260423T215114Z
SUMMARY:PASC
LOCATION:US Gym
URL;VALUE=URI:https://www.rak12.org/calendar/8683837/pasc
DTSTART:20260201T171500Z
DTEND:20260202T001500Z
END:VEVENT
END:VCALENDAR
