BEGIN:VCALENDAR
VERSION:2.0
PRODID:SchoolNow
CALSCALE:GREGORIAN
BEGIN:VEVENT
UID:db99182a-9ebc-11f0-af33-020386bb3359
DTSTAMP:20260423T215114Z
SUMMARY:PASC
LOCATION:US Gym
URL;VALUE=URI:https://www.rak12.org/calendar/8683839/pasc
DTSTART:20260215T170000Z
DTEND:20260216T000000Z
END:VEVENT
END:VCALENDAR
