BEGIN:VCALENDAR
VERSION:2.0
PRODID:SchoolNow
CALSCALE:GREGORIAN
BEGIN:VEVENT
UID:db991924-9ebc-11f0-81d6-020386bb3359
DTSTAMP:20260423T215114Z
SUMMARY:PASC
LOCATION:US Gym
URL;VALUE=URI:https://www.rak12.org/calendar/8683840/pasc
DTSTART:20260222T170000Z
DTEND:20260223T000000Z
END:VEVENT
END:VCALENDAR
