BEGIN:VCALENDAR
VERSION:2.0
PRODID:SchoolNow
CALSCALE:GREGORIAN
BEGIN:VEVENT
UID:44792098-aab0-11f0-b6a5-02b5736edd8f
DTSTAMP:20260423T215114Z
SUMMARY:T2 Grades Due
URL;VALUE=URI:https://www.rak12.org/calendar/8727448/t2-grades-due
DTSTART;VALUE=DATE:20260313
DTEND;VALUE=DATE:20260314
END:VEVENT
END:VCALENDAR
