BEGIN:VCALENDAR
VERSION:2.0
PRODID:SchoolNow
CALSCALE:GREGORIAN
BEGIN:VEVENT
UID:44968e30-aab0-11f0-94a4-02b5736edd8f
DTSTAMP:20260423T215115Z
SUMMARY:Zoo on Wheels
LOCATION:LS Gym
URL;VALUE=URI:https://www.rak12.org/calendar/8727450/zoo-on-wheels
DTSTART:20260424T140000Z
DTEND:20260424T160000Z
END:VEVENT
END:VCALENDAR
