BEGIN:VCALENDAR
VERSION:2.0
PRODID:SchoolNow
CALSCALE:GREGORIAN
BEGIN:VEVENT
UID:44969cc2-aab0-11f0-8466-02b5736edd8f
DTSTAMP:20260423T215115Z
SUMMARY:Bernini Co-Exist
LOCATION:Room 16
URL;VALUE=URI:https://www.rak12.org/calendar/8727462/bernini-co-exist
DTSTART:20260303T163000Z
DTEND:20260303T170000Z
END:VEVENT
END:VCALENDAR
