BEGIN:VCALENDAR
VERSION:2.0
PRODID:SchoolNow
CALSCALE:GREGORIAN
BEGIN:VEVENT
UID:44969da8-aab0-11f0-9e05-02b5736edd8f
DTSTAMP:20260423T215115Z
SUMMARY:Bernini Co-Exist
LOCATION:Room 16
URL;VALUE=URI:https://www.rak12.org/calendar/8727463/bernini-co-exist
DTSTART:20260317T153000Z
DTEND:20260317T160000Z
END:VEVENT
END:VCALENDAR
