BEGIN:VCALENDAR
VERSION:2.0
PRODID:SchoolNow
CALSCALE:GREGORIAN
BEGIN:VEVENT
UID:44969f6a-aab0-11f0-a9a8-02b5736edd8f
DTSTAMP:20260423T215114Z
SUMMARY:Bernini Co-Exist
LOCATION:Room 16
URL;VALUE=URI:https://www.rak12.org/calendar/8727465/bernini-co-exist
DTSTART:20260414T153000Z
DTEND:20260414T160000Z
END:VEVENT
END:VCALENDAR
