BEGIN:VCALENDAR
VERSION:2.0
PRODID:SchoolNow
CALSCALE:GREGORIAN
BEGIN:VEVENT
UID:4496a050-aab0-11f0-9d69-02b5736edd8f
DTSTAMP:20260423T215114Z
SUMMARY:Bernini Co-Exist
LOCATION:Room 16
URL;VALUE=URI:https://www.rak12.org/calendar/8727466/bernini-co-exist
DTSTART:20260428T153000Z
DTEND:20260428T160000Z
END:VEVENT
END:VCALENDAR
