BEGIN:VCALENDAR
VERSION:2.0
PRODID:SchoolNow
CALSCALE:GREGORIAN
BEGIN:VEVENT
UID:4496a12c-aab0-11f0-8b32-02b5736edd8f
DTSTAMP:20260423T215115Z
SUMMARY:Bernini Co-Exist
LOCATION:Room 16
URL;VALUE=URI:https://www.rak12.org/calendar/8727467/bernini-co-exist
DTSTART:20260512T153000Z
DTEND:20260512T160000Z
END:VEVENT
END:VCALENDAR
