BEGIN:VCALENDAR
VERSION:2.0
PRODID:SchoolNow
CALSCALE:GREGORIAN
BEGIN:VEVENT
UID:44cea612-aab0-11f0-a2f7-02b5736edd8f
DTSTAMP:20260423T215115Z
SUMMARY:Spring Keystone: Literature
URL;VALUE=URI:https://www.rak12.org/calendar/8727473/spring-keystone-litera
 ture
DTSTART:20260525T120000Z
DTEND:20260525T160000Z
END:VEVENT
END:VCALENDAR
