BEGIN:VCALENDAR
VERSION:2.0
PRODID:SchoolNow
CALSCALE:GREGORIAN
BEGIN:VEVENT
UID:44cea950-aab0-11f0-ac48-02b5736edd8f
DTSTAMP:20260423T215115Z
SUMMARY:Spring Keystone: Literature
URL;VALUE=URI:https://www.rak12.org/calendar/8727474/spring-keystone-litera
 ture
DTSTART:20260526T120000Z
DTEND:20260526T160000Z
END:VEVENT
END:VCALENDAR
