BEGIN:VCALENDAR
VERSION:2.0
PRODID:SchoolNow
CALSCALE:GREGORIAN
BEGIN:VEVENT
UID:8ec184fa-b029-11f0-bea9-0ea9ff9373a9
DTSTAMP:20260423T215115Z
SUMMARY:Core Value of the Month: Integrity
URL;VALUE=URI:https://www.rak12.org/calendar/8745273/core-value-of-the-mont
 h-integrity
DTSTART;VALUE=DATE:20260202
DTEND;VALUE=DATE:20260203
END:VEVENT
END:VCALENDAR
