BEGIN:VCALENDAR
VERSION:2.0
PRODID:SchoolNow
CALSCALE:GREGORIAN
BEGIN:VEVENT
UID:8ec185f4-b029-11f0-a84a-0ea9ff9373a9
DTSTAMP:20260423T215115Z
SUMMARY:Core value of the Month: Wisdom
URL;VALUE=URI:https://www.rak12.org/calendar/8745274/core-value-of-the-mont
 h-wisdom
DTSTART;VALUE=DATE:20260105
DTEND;VALUE=DATE:20260106
END:VEVENT
END:VCALENDAR
