BEGIN:VCALENDAR
VERSION:2.0
PRODID:SchoolNow
CALSCALE:GREGORIAN
BEGIN:VEVENT
UID:8ec186e4-b029-11f0-873b-0ea9ff9373a9
DTSTAMP:20260423T215114Z
SUMMARY:Core Value of the Month: Justice
URL;VALUE=URI:https://www.rak12.org/calendar/8745275/core-value-of-the-mont
 h-justice
DTSTART;VALUE=DATE:20260302
DTEND;VALUE=DATE:20260303
END:VEVENT
END:VCALENDAR
