BEGIN:VCALENDAR
VERSION:2.0
PRODID:SchoolNow
CALSCALE:GREGORIAN
BEGIN:VEVENT
UID:8ec187d4-b029-11f0-b02a-0ea9ff9373a9
DTSTAMP:20260423T215114Z
SUMMARY:Core Value of the Month: Courage
URL;VALUE=URI:https://www.rak12.org/calendar/8745276/core-value-of-the-mont
 h-courage
DTSTART;VALUE=DATE:20260401
DTEND;VALUE=DATE:20260402
END:VEVENT
END:VCALENDAR
