BEGIN:VCALENDAR
VERSION:2.0
PRODID:SchoolNow
CALSCALE:GREGORIAN
BEGIN:VEVENT
UID:8ec188ba-b029-11f0-84d3-0ea9ff9373a9
DTSTAMP:20260423T215115Z
SUMMARY:Review All Core Values
URL;VALUE=URI:https://www.rak12.org/calendar/8745277/review-all-core-values
DTSTART;VALUE=DATE:20260501
DTEND;VALUE=DATE:20260502
END:VEVENT
END:VCALENDAR
