BEGIN:VCALENDAR
VERSION:2.0
PRODID:SchoolNow
CALSCALE:GREGORIAN
BEGIN:VEVENT
UID:8ec18c66-b029-11f0-a412-0ea9ff9373a9
DTSTAMP:20260423T215114Z
SUMMARY:Reading Olympics - Middle School Event
LOCATION:Virtual in the Library
URL;VALUE=URI:https://www.rak12.org/calendar/8745281/reading-olympics-middl
 e-school-event
DTSTART:20260414T153000Z
DTEND:20260414T180000Z
END:VEVENT
END:VCALENDAR
