BEGIN:VCALENDAR
VERSION:2.0
PRODID:SchoolNow
CALSCALE:GREGORIAN
BEGIN:VEVENT
UID:8ec18d42-b029-11f0-8e93-0ea9ff9373a9
DTSTAMP:20260423T215114Z
SUMMARY:Reading Olympics - Elementary School Event
LOCATION:Virtual in the Library
URL;VALUE=URI:https://www.rak12.org/calendar/8745282/reading-olympics-eleme
 ntary-school-event
DTSTART:20260414T210000Z
DTEND:20260414T230000Z
END:VEVENT
END:VCALENDAR
