BEGIN:VCALENDAR
VERSION:2.0
PRODID:SchoolNow
CALSCALE:GREGORIAN
BEGIN:VEVENT
UID:8ec18e1e-b029-11f0-9ce8-0ea9ff9373a9
DTSTAMP:20260423T215114Z
SUMMARY:Reading Olympics - High School Event
URL;VALUE=URI:https://www.rak12.org/calendar/8745283/reading-olympics-high-
 school-event
DTSTART:20260305T220000Z
DTEND:20260306T000000Z
END:VEVENT
END:VCALENDAR
