BEGIN:VCALENDAR
VERSION:2.0
PRODID:SchoolNow
CALSCALE:GREGORIAN
BEGIN:VEVENT
UID:74e400e8-b05c-11f0-8aaa-0228d1b25e73
DTSTAMP:20260423T215115Z
SUMMARY:Reading Olympics Meetings -  5th Grade
LOCATION:Library
URL;VALUE=URI:https://www.rak12.org/calendar/8746045/reading-olympics-meeti
 ngs-5th-grade
DTSTART:20260108T163000Z
DTEND:20260108T170000Z
END:VEVENT
END:VCALENDAR
