BEGIN:VCALENDAR
VERSION:2.0
PRODID:SchoolNow
CALSCALE:GREGORIAN
BEGIN:VEVENT
UID:74e4099e-b05c-11f0-92ef-0228d1b25e73
DTSTAMP:20260423T215115Z
SUMMARY:Reading Olympics Meetings -  5th Grade
LOCATION:Library
URL;VALUE=URI:https://www.rak12.org/calendar/8746054/reading-olympics-meeti
 ngs-5th-grade
DTSTART:20260319T153000Z
DTEND:20260319T160000Z
END:VEVENT
END:VCALENDAR
