BEGIN:VCALENDAR
VERSION:2.0
PRODID:SchoolNow
CALSCALE:GREGORIAN
BEGIN:VEVENT
UID:74e40b60-b05c-11f0-bf3c-0228d1b25e73
DTSTAMP:20260423T215115Z
SUMMARY:Reading Olympics Meetings -  5th Grade
LOCATION:Library
URL;VALUE=URI:https://www.rak12.org/calendar/8746056/reading-olympics-meeti
 ngs-5th-grade
DTSTART:20260402T153000Z
DTEND:20260402T160000Z
END:VEVENT
END:VCALENDAR
