BEGIN:VCALENDAR
VERSION:2.0
PRODID:SchoolNow
CALSCALE:GREGORIAN
BEGIN:VEVENT
UID:74e41592-b05c-11f0-8a4f-0228d1b25e73
DTSTAMP:20260423T215115Z
SUMMARY:Reading Olympics Meetings -  4th Grade
LOCATION:Library
URL;VALUE=URI:https://www.rak12.org/calendar/8746068/reading-olympics-meeti
 ngs-4th-grade
DTSTART:20260219T173000Z
DTEND:20260219T175000Z
END:VEVENT
END:VCALENDAR
