BEGIN:VCALENDAR
VERSION:2.0
PRODID:SchoolNow
CALSCALE:GREGORIAN
BEGIN:VEVENT
UID:74e41826-b05c-11f0-8aa9-0228d1b25e73
DTSTAMP:20260423T215115Z
SUMMARY:Reading Olympics Meetings -  4th Grade
LOCATION:Library
URL;VALUE=URI:https://www.rak12.org/calendar/8746071/reading-olympics-meeti
 ngs-4th-grade
DTSTART:20260312T163000Z
DTEND:20260312T165000Z
END:VEVENT
END:VCALENDAR
